BEGIN:VCALENDAR
VERSION:2.0
PRODID:-//wp-events-plugin.com//6.4.6.4//EN
TZID:Europe/Paris
X-WR-TIMEZONE:Europe/Paris
BEGIN:VEVENT
UID:833@citefertile.com
DTSTART;TZID=Europe/Paris:20250725T193000
DTEND;TZID=Europe/Paris:20250726T013000
DTSTAMP:20250630T090757Z
URL:https://citefertile.com/events/open-air-marbre-friends/
SUMMARY:Open air : Marbré & Friends
DESCRIPTION:\n\n\n\n\n\n\n\n\n\n\n🌞 Marbré &amp\; Friends — Open Air 
 🌞\nUn dimanche à ciel ouvert\, une bande de diggers passionnés\, et u
 ne seule mission : te faire groover du début à la fin.\nMarbré &amp\; F
 riends\, c’est bien plus qu’un DJ set. C’est une déclaration d’am
 our aux platines\, aux corps qui dansent\, aux sourires partagés. Une sé
 lection soignée de House solaire\, d’Electro vibrante et de pépites Di
 sco qui réchauffent le cœur et les pieds.\nOn s’installe en douceur\, 
 on monte en température\, et on finit tous ensemble sous le soleil qui d
 écline — le genre de moment qu’on n’oublie pas.\n\n\nRamène tes po
 tes\, ta bonne humeur et ton meilleur pas de danse.\n\n\n\n\n\n~~~~~~~ INF
 OS ~~~~~~~~\n\n🕦 19H30-1H30\n📍 14 Av. Edouard Vaillant\, 93500 Panti
 n\n🎟️ Gratuit sur inscription\n\n\n\n\n------------------------------
 ---\n\n\n\n Quelques règles à respecter :\n- Le respect + la bienveillan
 ce : chacun.e se doit de se montrer respectueux.se envers autrui (les memb
 res du staff\, les danseur.euses\, le voisinage)\, de prendre soin de soi 
 et des autres\n- La liberté : chacun.e doit se sentir libre d’être qui
  iel est\, de s’amuser sans être embêté.e\n- La tolérance : qu’ici
  soit prônée la diversité ! L’ouverture n’est pas une option\, tous
  les genres\, tout.e.s les ethnies\, tou.te.s les religions sont les bienv
 enu.e.s\n- La sécurité : chacun.e est tenu.e à veiller à la sécurité
  de tou.te.sNous nous réservons le droit de refuser l’entrée/d’exclu
 re toute personne qui ne respecterait pas nos valeurs afin de préserver n
 otre public.\n\n Site accessible aux personnes à mobilité réduite\n
ATTACH;FMTTYPE=image/jpeg:https://citefertile.com/wp-content/uploads/2025/
 06/MARBRECFevent.png
END:VEVENT
BEGIN:VTIMEZONE
TZID:Europe/Paris
X-LIC-LOCATION:Europe/Paris
BEGIN:DAYLIGHT
DTSTART:20250330T030000
TZOFFSETFROM:+0100
TZOFFSETTO:+0200
TZNAME:CEST
END:DAYLIGHT
END:VTIMEZONE
END:VCALENDAR