BEGIN:VCALENDAR
VERSION:2.0
PRODID:-//wp-events-plugin.com//6.4.6.4//EN
TZID:Europe/Paris
X-WR-TIMEZONE:Europe/Paris
BEGIN:VEVENT
UID:1221@citefertile.com
DTSTART;TZID=Europe/Paris:20250905T193000
DTEND;TZID=Europe/Paris:20250906T013000
DTSTAMP:20250819T120516Z
URL:https://citefertile.com/events/open-air-nectar/
SUMMARY:Open air Nectar
DESCRIPTION:\n\n\n\n\n\n\n\n\n\n\nNectar\, c’est la soirée qui t'invite 
 à redécouvrir le R&amp\;B dans toutes ses nuances. Ici\, on célèbre la
  richesse et la diversité d’un genre trop souvent cantonné à la nosta
 lgie.\nCréé par Louise Pétrouchka et Viv\, deux DJs passionnées de R&a
 mp\;B\, notre mission est de mettre en lumière la richesse du R&amp\;B ac
 tuel et de valoriser les DJs comme curateurs musicaux.\n\n📅 Rendez-vous
  le 5 septembre pour une toute nouvelle édition à la Cité Fertile. On i
 nvite la DJ et journaliste Naomi\, amoureuse du genre depuis toujours et c
 uratrice des émissions R&amp\;B Gems sur Rinse France.\n\n–– 𝗟𝗜
 𝗡𝗘 𝗨𝗣 ––\n\n\n\n\n\n\n\n🍯 NAOMI : https://www.instagram
 .com/naomiclement_\n🍯 VIV : https://www.instagram.com/viv_viv.vivi\n
 🍯 LOUISE PÉTROUCHKA : https://www.instagram.com/petrouchka_\n\n\n\n\n\
 n\n\n\n~~~~~~~ INFOS ~~~~~~~~\n\n📆 Vendredi 5 septembre 2025\n🕖 19:3
 0 - 01:30\n📍 14 Av. Edouard Vaillant\, 93500 Pantin\n🎟️ Entrée gr
 atuite sur billetterie\n\n\n\n\n---------------------------------\n\n\n\n 
 Quelques règles à respecter :\n- Le respect + la bienveillance : chacun.
 e se doit de se montrer respectueux.se envers autrui (les membres du staff
 \, les danseur.euses\, le voisinage)\, de prendre soin de soi et des autre
 s\n- La liberté : chacun.e doit se sentir libre d’être qui iel est\, d
 e s’amuser sans être embêté.e\n- La tolérance : qu’ici soit prôn
 ée la diversité ! L’ouverture n’est pas une option\, tous les genres
 \, tout.e.s les ethnies\, tou.te.s les religions sont les bienvenu.e.s\n- 
 La sécurité : chacun.e est tenu.e à veiller à la sécurité de tou.te.
 sNous nous réservons le droit de refuser l’entrée/d’exclure toute pe
 rsonne qui ne respecterait pas nos valeurs afin de préserver notre public
 .\n\n Site accessible aux personnes à mobilité réduite\n
ATTACH;FMTTYPE=image/jpeg:https://citefertile.com/wp-content/uploads/2025/
 08/SHOTGUN-V1.png
END:VEVENT
BEGIN:VTIMEZONE
TZID:Europe/Paris
X-LIC-LOCATION:Europe/Paris
BEGIN:DAYLIGHT
DTSTART:20250330T030000
TZOFFSETFROM:+0100
TZOFFSETTO:+0200
TZNAME:CEST
END:DAYLIGHT
END:VTIMEZONE
END:VCALENDAR