BEGIN:VCALENDAR
VERSION:2.0
PRODID:-//wp-events-plugin.com//6.4.6.4//EN
TZID:Europe/Paris
X-WR-TIMEZONE:Europe/Paris
BEGIN:VEVENT
UID:841@citefertile.com
DTSTART;TZID=Europe/Paris:20250829T180000
DTEND;TZID=Europe/Paris:20250830T013000
DTSTAMP:20250728T094313Z
URL:https://citefertile.com/events/open-air-pardonnez-nous/
SUMMARY:Open air Pardonnez-nous
DESCRIPTION:\n\n\n\n\n\n\n\n\n\n\n\nC’est peut être la fin du mois d’A
 oût mais c’est pas la fin des bêtises : Pardonnez-nous invite H3 Recor
 ds pour exhiber ta plus belle marque de maillot lors d’un Open Air XXL 
 à la Cité Fertile.\n\nEt Fertile\, cette soirée le sera car musicalemen
 t du choix il y aura : house\, uk house\, bass music\, électro\, samba\, 
 les deux collectifs rameutent toustes leurs http://xn--rsident-bya.es/ayan
 t glané des hits tout l’été tels des maitres dj’s sur leurs arbres 
 perchés.\n\nAh ouais et on pense à toi\, comme t’as sans doute dépens
 é tout ton salaire de maître requin à Palavas\, l’entrée sera gratoo
 os sur invitation shotgun à choper sur la billetterie.\n\nPrépare toi à
  charger mon amour\, car entre toi et nous c’est pour toujours\n\n~~~~~~
 ~~\nLINE UP\, que des numéros 10 :\n~~~~~~~~\nAubry Victor MantelPura Pur
 aSalo Mael Cobb\n\n\n\n\n\n\n\n\n\n\n~~~~~~~ INFOS ~~~~~~~~\n\n📆 Vendre
 di 29 août 2025\n🕖 18h – 01h30\n📍 14 Av. Edouard Vaillant\, 93500
  Pantin\n🎟️ Entrée gratuite sur billetterie\n\n\n\n\n---------------
 ------------------\n\n\n\n Quelques règles à respecter :\n- Le respect +
  la bienveillance : chacun.e se doit de se montrer respectueux.se envers a
 utrui (les membres du staff\, les danseur.euses\, le voisinage)\, de prend
 re soin de soi et des autres\n- La liberté : chacun.e doit se sentir libr
 e d’être qui iel est\, de s’amuser sans être embêté.e\n- La tolér
 ance : qu’ici soit prônée la diversité ! L’ouverture n’est pas un
 e option\, tous les genres\, tout.e.s les ethnies\, tou.te.s les religions
  sont les bienvenu.e.s\n- La sécurité : chacun.e est tenu.e à veiller 
 à la sécurité de tou.te.sNous nous réservons le droit de refuser l’e
 ntrée/d’exclure toute personne qui ne respecterait pas nos valeurs afin
  de préserver notre public.\n\n Site accessible aux personnes à mobilit
 é réduite\n
ATTACH;FMTTYPE=image/jpeg:https://citefertile.com/wp-content/uploads/2025/
 07/521961350_1173255111512367_6095306543214358539_n.jpg
END:VEVENT
BEGIN:VTIMEZONE
TZID:Europe/Paris
X-LIC-LOCATION:Europe/Paris
BEGIN:DAYLIGHT
DTSTART:20250330T030000
TZOFFSETFROM:+0100
TZOFFSETTO:+0200
TZNAME:CEST
END:DAYLIGHT
END:VTIMEZONE
END:VCALENDAR