BEGIN:VCALENDAR
VERSION:2.0
PRODID:-//wp-events-plugin.com//6.4.6.4//EN
TZID:Europe/Paris
X-WR-TIMEZONE:Europe/Paris
BEGIN:VEVENT
UID:843@citefertile.com
DTSTART;TZID=Europe/Paris:20250912T193000
DTEND;TZID=Europe/Paris:20250913T003000
DTSTAMP:20250728T103137Z
URL:https://citefertile.com/events/open-air-promesses-friends/
SUMMARY:Open air Promesses & friends
DESCRIPTION:\n\n\n\n\n\n\n\n\n\n\n\n Open air PROMESSES &amp\; FRIENDS \n\n
 \n youtu.be/XCyFhnau6ZA soundcloud.com/prmsss instagram.com/_promesses\n\n
 \n\n\n\n\n\n~~~~~~~ INFOS ~~~~~~~~\n\n📆 Vendredi 12 septembre 2025\n
 🕖 19h30-00h30\n📍 14 Av. Edouard Vaillant\, 93500 Pantin\n🎟️ Ent
 rée gratuite sur billetterie\n\n\n\n\n---------------------------------\n
 \n\n\n Quelques règles à respecter :\n- Le respect + la bienveillance : 
 chacun.e se doit de se montrer respectueux.se envers autrui (les membres d
 u staff\, les danseur.euses\, le voisinage)\, de prendre soin de soi et de
 s autres\n- La liberté : chacun.e doit se sentir libre d’être qui iel 
 est\, de s’amuser sans être embêté.e\n- La tolérance : qu’ici soit
  prônée la diversité ! L’ouverture n’est pas une option\, tous les 
 genres\, tout.e.s les ethnies\, tou.te.s les religions sont les bienvenu.e
 .s\n- La sécurité : chacun.e est tenu.e à veiller à la sécurité de t
 ou.te.sNous nous réservons le droit de refuser l’entrée/d’exclure to
 ute personne qui ne respecterait pas nos valeurs afin de préserver notre 
 public.\n\n Site accessible aux personnes à mobilité réduite\n
ATTACH;FMTTYPE=image/jpeg:https://citefertile.com/wp-content/uploads/2025/
 07/03_-_Cite_Fertile_x_Promesses_3_-_banniere_court_lmx37j.jpg
END:VEVENT
BEGIN:VTIMEZONE
TZID:Europe/Paris
X-LIC-LOCATION:Europe/Paris
BEGIN:DAYLIGHT
DTSTART:20250330T030000
TZOFFSETFROM:+0100
TZOFFSETTO:+0200
TZNAME:CEST
END:DAYLIGHT
END:VTIMEZONE
END:VCALENDAR