BEGIN:VCALENDAR
VERSION:2.0
PRODID:-//wp-events-plugin.com//6.4.6.4//EN
TZID:Europe/Paris
X-WR-TIMEZONE:Europe/Paris
BEGIN:VEVENT
UID:831@citefertile.com
DTSTART;TZID=Europe/Paris:20250719T180000
DTEND;TZID=Europe/Paris:20250720T013000
DTSTAMP:20250627T124402Z
URL:https://citefertile.com/events/open-air-tweak-sound-system/
SUMMARY:Open air : Tweak Sound System
DESCRIPTION:\n\n\n\n\n\n\n\n\n\n\n✨ LE RETOUR DE TWEAK ! ✨\n\n\n\nTweak
  Soundsystem en open air à la Cité Fertile Prépare-toi pour une session
  en plein air survoltée avec Tweak Soundsystem\, qui investit la Cité Fe
 rtile avec ses 3 scoops puissants pour une ambiance sound system !\n\n3 sc
 oops - all styles - siren &amp\; delays.\n\n\n\n\nLine up :\nMains Courant
 es &amp\; Sentiments all day long\n\n\n\n\n\n~~~~~~~ INFOS ~~~~~~~~\n\n
 🕦 18H-1H30\n📍 14 Av. Edouard Vaillant\, 93500 Pantin\n🎟️ Entré
 e gratuite sur billetterie\n\n\n\n\n---------------------------------\n\n\
 n\n Quelques règles à respecter :\n- Le respect + la bienveillance : cha
 cun.e se doit de se montrer respectueux.se envers autrui (les membres du s
 taff\, les danseur.euses\, le voisinage)\, de prendre soin de soi et des a
 utres\n- La liberté : chacun.e doit se sentir libre d’être qui iel est
 \, de s’amuser sans être embêté.e\n- La tolérance : qu’ici soit pr
 ônée la diversité ! L’ouverture n’est pas une option\, tous les gen
 res\, tout.e.s les ethnies\, tou.te.s les religions sont les bienvenu.e.s\
 n- La sécurité : chacun.e est tenu.e à veiller à la sécurité de tou.
 te.sNous nous réservons le droit de refuser l’entrée/d’exclure toute
  personne qui ne respecterait pas nos valeurs afin de préserver notre pub
 lic.\n\n Site accessible aux personnes à mobilité réduite\n
ATTACH;FMTTYPE=image/jpeg:https://citefertile.com/wp-content/uploads/2025/
 06/2025-07-19-citee-fertile-facebook-scaled.jpg
END:VEVENT
BEGIN:VTIMEZONE
TZID:Europe/Paris
X-LIC-LOCATION:Europe/Paris
BEGIN:DAYLIGHT
DTSTART:20250330T030000
TZOFFSETFROM:+0100
TZOFFSETTO:+0200
TZNAME:CEST
END:DAYLIGHT
END:VTIMEZONE
END:VCALENDAR