BEGIN:VCALENDAR
VERSION:2.0
PRODID:-//wp-events-plugin.com//6.4.6.4//EN
TZID:Europe/Paris
X-WR-TIMEZONE:Europe/Paris
BEGIN:VEVENT
UID:1217@citefertile.com
DTSTART;TZID=Europe/Paris:20250913T180000
DTEND;TZID=Europe/Paris:20250914T013000
DTSTAMP:20250819T091324Z
URL:https://citefertile.com/events/open-air-tweak-soundsystem/
SUMMARY:Open air Tweak Soundsystem
DESCRIPTION:\n\n\n\n\n\n\n\n\n\n\n\n\n\n\n\n\n🌟 LE RETOUR DE TWEAK ! 
 🌟\n\n\n\nTweak Soundsystem en open air à la Cité Fertile !\n\n\n\n\n\
 nInspirés par les pionniers jamaïcains\, Tweak représente une vision 70
 ’s 80’s du son\, retranscrite dans une menuiserie moderne et puissante
 . Il s’adapte à tous les styles de musique\, les rendant ronds\, à la 
 fois audiophiles et physiques : parfait pour la danse. Tweak Soundsystem s
 ’ancre dans un héritage pour lequel les musiques sont multiples\, color
 ées\, riches et variées.\n\n\n\n\n\n\n\n~~~~~~~ INFOS ~~~~~~~~\n\n\n\n\n
 \n\n\n📆 Samedi 19 septembre 2025\n🕖 18:00 - 01:30\n📍 14 Av. Edoua
 rd Vaillant\, 93500 Pantin\n🎟️ Entrée gratuite sur billetterie\n\n\n
 \n\n---------------------------------\n\n\n\n Quelques règles à respecte
 r :\n- Le respect + la bienveillance : chacun.e se doit de se montrer resp
 ectueux.se envers autrui (les membres du staff\, les danseur.euses\, le vo
 isinage)\, de prendre soin de soi et des autres\n- La liberté : chacun.e 
 doit se sentir libre d’être qui iel est\, de s’amuser sans être emb
 êté.e\n- La tolérance : qu’ici soit prônée la diversité ! L’ouve
 rture n’est pas une option\, tous les genres\, tout.e.s les ethnies\, to
 u.te.s les religions sont les bienvenu.e.s\n- La sécurité : chacun.e est
  tenu.e à veiller à la sécurité de tou.te.sNous nous réservons le dro
 it de refuser l’entrée/d’exclure toute personne qui ne respecterait p
 as nos valeurs afin de préserver notre public.\n\n Site accessible aux pe
 rsonnes à mobilité réduite\n
ATTACH;FMTTYPE=image/jpeg:https://citefertile.com/wp-content/uploads/2025/
 08/2025-09-13-tweak-facebook-scaled.jpg
END:VEVENT
BEGIN:VTIMEZONE
TZID:Europe/Paris
X-LIC-LOCATION:Europe/Paris
BEGIN:DAYLIGHT
DTSTART:20250330T030000
TZOFFSETFROM:+0100
TZOFFSETTO:+0200
TZNAME:CEST
END:DAYLIGHT
END:VTIMEZONE
END:VCALENDAR