BEGIN:VCALENDAR
VERSION:2.0
PRODID:-//wp-events-plugin.com//6.4.6.4//EN
TZID:Europe/Paris
X-WR-TIMEZONE:Europe/Paris
BEGIN:VEVENT
UID:1219@citefertile.com
DTSTART;TZID=Europe/Paris:20250831T150000
DTEND;TZID=Europe/Paris:20250901T213000
DTSTAMP:20250819T095527Z
URL:https://citefertile.com/events/open-air-xxl-avec-aurora/
SUMMARY:Open air XXL avec Aurora
DESCRIPTION:\n\n\n\n\n\n\n\n\n\n\n\n𝐎𝐩𝐞𝐧 𝐀𝐢𝐫 𝐗𝐗
 𝐋 𝐆𝐫𝐚𝐭𝐮𝐢𝐭 - 𝐋𝐚 𝐂𝐢𝐭é 𝐅𝐞𝐫
 𝐭𝐢𝐥𝐞 𝐱 𝐀𝐮𝐫𝐨𝐫𝐚\nLe soleil tape\, les corps
  bougent\, et la house résonne : Aurora sors du club pour investir l'open
  air de la Cité Fertile pour un dimanche d’août comme on les aime\, en
 tre groove fin\, ambiance chaleureuse et sélections affûtées. 🌞\nPou
 r cette édition\, on a le plaisir d’accueillir Takirimatia\, duo parisi
 en et résidents du collectif SOL-R. Leur univers navigue entre house mini
 male profonde\, textures hypnotiques et groove millimétré. Une vibe subt
 ile\, construite pour les oreilles fines et les danseurs attentifs — par
 faite pour un format open air.\nÀ leurs côtés\, les résidents Aurora 
 – Vons\, Alex Geslin\, Yahzi &amp\; Jordan Geslin – porteront haut les
  couleurs du crew avec leurs sélections toujours précises : minimal et T
 ech House groovy\, percussions délicates\, et basslines qui roulent sous 
 le soleil.\nUn format après-midi\, du bon son\, et un public fidèle : to
 us les ingrédients sont là. 🧡\n\n\n\n\n\n\n\n\n\n\n~~~~~~~ INFOS ~~~~
 ~~~~\n\n📆 Dimanche 31 août 2025\n🕖 15:00 - 21:30\n📍 14 Av. Edoua
 rd Vaillant\, 93500 Pantin\n🎟️ Entrée gratuite sur billetterie\n\n\n
 \n\n---------------------------------\n\n\n\n Quelques règles à respecte
 r :\n- Le respect + la bienveillance : chacun.e se doit de se montrer resp
 ectueux.se envers autrui (les membres du staff\, les danseur.euses\, le vo
 isinage)\, de prendre soin de soi et des autres\n- La liberté : chacun.e 
 doit se sentir libre d’être qui iel est\, de s’amuser sans être emb
 êté.e\n- La tolérance : qu’ici soit prônée la diversité ! L’ouve
 rture n’est pas une option\, tous les genres\, tout.e.s les ethnies\, to
 u.te.s les religions sont les bienvenu.e.s\n- La sécurité : chacun.e est
  tenu.e à veiller à la sécurité de tou.te.sNous nous réservons le dro
 it de refuser l’entrée/d’exclure toute personne qui ne respecterait p
 as nos valeurs afin de préserver notre public.\n\n Site accessible aux pe
 rsonnes à mobilité réduite\n
ATTACH;FMTTYPE=image/jpeg:https://citefertile.com/wp-content/uploads/2025/
 08/SHOTGUN-FORMAT.png-scaled.jpg
END:VEVENT
BEGIN:VTIMEZONE
TZID:Europe/Paris
X-LIC-LOCATION:Europe/Paris
BEGIN:DAYLIGHT
DTSTART:20250330T030000
TZOFFSETFROM:+0100
TZOFFSETTO:+0200
TZNAME:CEST
END:DAYLIGHT
END:VTIMEZONE
END:VCALENDAR