BEGIN:VCALENDAR
VERSION:2.0
PRODID:-//wp-events-plugin.com//6.4.6.4//EN
TZID:Europe/Paris
X-WR-TIMEZONE:Europe/Paris
BEGIN:VEVENT
UID:1281@citefertile.com
DTSTART;TZID=Europe/Paris:20251108T203000
DTEND;TZID=Europe/Paris:20251108T220000
DTSTAMP:20251030T111221Z
URL:https://citefertile.com/events/open-mic-tap-dance/
SUMMARY:Open Mic - Tap Dance
DESCRIPTION:\n\n\n\n\n\n\n\n\n\nSoirée présentée dans le cadre de pdf - 
 percussive dance festival. Une collaboration Hip Tap Project et Tap Danse 
 Tribu. Une soirée qui mêle rencontre\, échanges impromptus et propositi
 ons originales de festivaliers venant de France et d'ailleurs.\n\n\n\n\nA 
 la croisée des expressions mouvantes et des vibrations sonores\, #pdf ré
 unit des artistes venus de tous horizons. Porté par une volonté forte de
  valoriser la création et les élans créatifs\, ce temps fort du festiva
 l propose une soirée Open Mic / Jam Session – un moment unique de renco
 ntre avec les artistes du festival. Au programme : démonstrations origina
 les\, fusions musicales spontanées\, échanges improvisés autour du ryth
 me et de la pluridisciplinarité. Les artistes du festival y dévoilent de
 s éclats de leur univers\, tandis que les festivaliers sont invités à p
 rendre part à ce flux créatif\, en livrant un fragment de leur travail o
 u en se laissant porter par l’instant. Une rencontre vibrante où les di
 sciplines se croisent\, où le rythme devient langage commun.\n\n\n\n\n\n\
 n\n\n\n\n\n\n\n~~~~~~~ INFOS ~~~~~~~~\n📆 Samedi 08 novembre 2025\n🕖 
 20h30-22h\n📍 14 Av. Edouard Vaillant\, 93500 Pantin\n\n\n\n\n\n\n\n Bil
 letterie\n\n\n\n\n---------------------------------\n\n\n Quelques règles
  à respecter : - Le respect + la bienveillance : chacun.e se doit de se m
 ontrer respectueux.se envers autrui (les membres du staff\, les danseur.eu
 ses\, le voisinage)\, de prendre soin de soi et des autres\n- La liberté 
 : chacun.e doit se sentir libre d’être qui iel est\, de s’amuser sans
  être embêté.e\n- La tolérance : qu’ici soit prônée la diversité 
 ! L’ouverture n’est pas une option\, tous les genres\, tout.e.s les et
 hnies\, tou.te.s les religions sont les bienvenu.e.s\n- La sécurité : ch
 acun.e est tenu.e à veiller à la sécurité de tou.te.sNous nous réserv
 ons le droit de refuser l’entrée/d’exclure toute personne qui ne resp
 ecterait pas nos valeurs afin de préserver notre public.\n\n Site accessi
 ble au personnes à mobilité réduite\n
ATTACH;FMTTYPE=image/jpeg:https://citefertile.com/wp-content/uploads/2025/
 10/1000044679.jpg
END:VEVENT
BEGIN:VTIMEZONE
TZID:Europe/Paris
X-LIC-LOCATION:Europe/Paris
BEGIN:STANDARD
DTSTART:20251026T020000
TZOFFSETFROM:+0200
TZOFFSETTO:+0100
TZNAME:CET
END:STANDARD
END:VTIMEZONE
END:VCALENDAR