BEGIN:VCALENDAR
VERSION:2.0
PRODID:-//wp-events-plugin.com//6.4.6.4//EN
TZID:Europe/Paris
X-WR-TIMEZONE:Europe/Paris
BEGIN:VEVENT
UID:1347@citefertile.com
DTSTART;TZID=Europe/Paris:20260221T200000
DTEND;TZID=Europe/Paris:20260222T010000
DTSTAMP:20260202T142840Z
URL:https://citefertile.com/events/orage-sanguines-live-edition/
SUMMARY:Orage sanguines - live édition
DESCRIPTION:\n\n\n\n\n\n\n\n\n\n\n\n\n\n\nOrage Sanguines fait son grand re
 tour à la Cité Fertile\, toujours avec une programmation 100% femmes \nE
 ntre afrobeat\, rap\, pop et techno\, on t'a concocté un mix explosif d'a
 rtistes locales pour te faire transpirer le temps d'une soirée  \n\nUne 
 soirée pensée comme un espace de rencontre\, où artistes et public part
 agent le même niveau pour une expérience immersive\, dans un cadre safe 
 à tolérance zéro face au racisme\, au sexisme\, à l’homophobie et à
  toute attitude déplacée.\n\n LINE-UP\n\n GaneraDJ dont l’univers osci
 lle entre élégance nocturne et puissance rythmique\, les sets de Ganera 
 sont ancrés dans l’afro house et l’afro tech et proposent des voyages
  sonores profonds.Groovy et immersifs\, ils sont construits autour de mont
 ées progressives et d’une tension maîtrisée. Inspirée par les cultur
 es afro-diasporiques et les esthétiques futuristes\, elle développe une 
 identité musicale raffinée et magnétique\, privilégiant la connexion a
 u public et l’expérience collective.\n\n MUS4 (Concert live)\nArtiste p
 op française à l’univers doux\, sensuel et affirmé\, MUS4 mêle pop c
 hill\, R&amp\;B et pop-rock.À l’occasion de ce concert\, MUS4 proposera
  une performance intimiste mêlant douceur vocale\, sensualité assumée e
 t énergie scénique maîtrisée avec ses musicien·nes.Un moment intime e
 t magnétique d’une trentaine de minutes\, où la pop chill se pare de t
 ensions émotionnelles et une histoire d’ex qui se raconte comme un réc
 it à la fois drôle\, tragique\, magnifique et à l'esprit de vengeance.\
 n\n Reyana Svårt\nDJ\, designer de mode et fondatrice de SVÅRTLAB Record
 s\, Reyana Svårt incarne une nouvelle génération d’artistes aux influ
 ences multiples et sans frontières.Entre pop scintillante\, techno tranch
 ante\, dance euphorique et textures glitchy\, ses sets explosifs\, inspir
 és par la flamboyance hyperpop de SOPHIE et la techno élégante de Paul 
 Kalkbrenner\, sont une invitation à la surprise et deviennent un terrain 
 de jeu où les genres se rencontrent et se heurtent dans une harmonie expl
 osive.\n\n POP$\nDJ polyvalente et curieuse\, POP$ puise ses influences da
 ns le hip-hop\, tout en naviguant entre house\, techno\, afro\, UK garage 
 et drum’n’bass. Habituée à brouiller les frontières entre les genre
 s\, elle construit des sets énergiques et adaptables\, mêlant rap\, amap
 iano\, bouyon et sonorités électroniques. Une approche hybride et instin
 ctive\, guidée par l’énergie essentielle du public et le plaisir du pa
 rtage.\n\n BIG MOM (Concert live)\nBIG MOM n’est pas juste une artiste\,
  c’est une vraie force de la nature. C’est durant une période sombre 
 de sa vie que la musique devient son échappatoire. Même dans les moments
  les plus durs\, elle écrit des chansons dans sa tête et rêve d’un fu
 tur lumineux.Aujourd’hui\, sous le nom de BIG MOM\, elle incarne un symb
 ole de résilience et d’authenticité. Artiste de rap parisienne active 
 depuis 2022\, sa musique oscille entre récits puissants et mélodies fém
 inines accrocheuses. Sur scène\, son énergie est brute\, captivante\, et
  son message clair : peu importe d’où tu viens\, ce qui compte\, c’es
 t où tu vas.\n\n\n\n\n\n\n\n\n\n\n\n\n\n\n\n\n\n\n\n\n\n\n\n~~~~~~~ INFOS
  ~~~~~~~~\n🗓 Samedi 21 février\n🕖 20h – 01H\n📍 14 Av. Edouard 
 Vaillant\, 93500 Pantin\n\n🎟️ Billetterie gratuite \n\n\n\n\n\n\n\n\n
 \n\n\n\n\n Quelques règles à respecter :\n- Le respect + la bienveillanc
 e : chacun.e se doit de se montrer respectueux.se envers autrui (les membr
 es du staff\, les danseur.euses\, le voisinage)\, de prendre soin de soi e
 t des autres\n- La liberté : chacun.e doit se sentir libre d’être qui 
 iel est\, de s’amuser sans être embêté.e\n- La tolérance : qu’ici 
 soit prônée la diversité ! L’ouverture n’est pas une option\, tous 
 les genres\, tout.e.s les ethnies\, tou.te.s les religions sont les bienve
 nu.e.s\n- La sécurité : chacun.e est tenu.e à veiller à la sécurité 
 de tou.te.sNous nous réservons le droit de refuser l’entrée/d’exclur
 e toute personne qui ne respecterait pas nos valeurs afin de préserver no
 tre public.\n\n Site accessible aux personnes à mobilité réduite\n
ATTACH;FMTTYPE=image/jpeg:https://citefertile.com/wp-content/uploads/2026/
 02/OS_header.jpg
END:VEVENT
BEGIN:VTIMEZONE
TZID:Europe/Paris
X-LIC-LOCATION:Europe/Paris
BEGIN:STANDARD
DTSTART:20251026T020000
TZOFFSETFROM:+0200
TZOFFSETTO:+0100
TZNAME:CET
END:STANDARD
END:VTIMEZONE
END:VCALENDAR