BEGIN:VCALENDAR
VERSION:2.0
PRODID:-//wp-events-plugin.com//6.4.6.4//EN
TZID:Europe/Paris
X-WR-TIMEZONE:Europe/Paris
BEGIN:VEVENT
UID:1280@citefertile.com
DTSTART;TZID=Europe/Paris:20251025T150000
DTEND;TZID=Europe/Paris:20251026T013000
DTSTAMP:20251014T144956Z
URL:https://citefertile.com/events/outrebleu-day-warehouse-2/
SUMMARY:Outrebleu Day Warehouse
DESCRIPTION:\n\n\n\n\n\n\n\n\n\n\n\n\n\nOUTREBLEU ꩜ DAY WAREHOUSEOctober 
 25\, 2025 ● Pantin\n15:00 — 01:30\nTickets: https://fr.ra.co/events/22
 02995________________________\nLet's dream again...\nEntrez dans l'Outrebl
 eu\, une expérience plurielle où musique\, arts visuels et performances 
 vibrent à l'unisson.\nSoundsystem Clear-Sound.________________________\n
 • 𝗠𝗨𝗦𝗜𝗖 •\nMARCO SHUTTLEhttps://soundcloud.com/marco_sh
 uttle\nDJ MARIAhttps://soundcloud.com/djmaria-jp\nINNERSHA (live)https://s
 oundcloud.com/innersha\n????\nLASTVUSKAhttps://soundcloud.com/lastvuska-1\
 n• 𝗔𝗥𝗧 &amp\; 𝗣𝗘𝗥𝗙𝗢𝗥𝗠𝗔𝗡𝗖𝗘𝗦 
 •\nVRTX LTDhttps://www.instagram.com/vrtx_ltd/\n\n\n\n\n\n\n\n\n\n\n\n\n
 ~~~~~~~ INFOS ~~~~~~~~\n\n📆 Samedi 25 octobre 2025\n🕖 15h00-01h30\n
 📍 14 Av. Edouard Vaillant\, 93500 Pantin\n🎟️ Billetterie\n\n\n\n\n
 ---------------------------------\n\n\n\n Quelques règles à respecter :\
 n- Le respect + la bienveillance : chacun.e se doit de se montrer respectu
 eux.se envers autrui (les membres du staff\, les danseur.euses\, le voisin
 age)\, de prendre soin de soi et des autres\n- La liberté : chacun.e doit
  se sentir libre d’être qui iel est\, de s’amuser sans être embêté
 .e\n- La tolérance : qu’ici soit prônée la diversité ! L’ouverture
  n’est pas une option\, tous les genres\, tout.e.s les ethnies\, tou.te.
 s les religions sont les bienvenu.e.s\n- La sécurité : chacun.e est tenu
 .e à veiller à la sécurité de tou.te.sNous nous réservons le droit de
  refuser l’entrée/d’exclure toute personne qui ne respecterait pas no
 s valeurs afin de préserver notre public.\n\n Site accessible aux personn
 es à mobilité réduite\n
ATTACH;FMTTYPE=image/jpeg:https://citefertile.com/wp-content/uploads/2025/
 10/Copie_de_Sans_titre_Couverture_Facebook_mi97yi.jpg
END:VEVENT
BEGIN:VTIMEZONE
TZID:Europe/Paris
X-LIC-LOCATION:Europe/Paris
BEGIN:DAYLIGHT
DTSTART:20250330T030000
TZOFFSETFROM:+0100
TZOFFSETTO:+0200
TZNAME:CEST
END:DAYLIGHT
END:VTIMEZONE
END:VCALENDAR