BEGIN:VCALENDAR
VERSION:2.0
PRODID:-//wp-events-plugin.com//6.4.6.4//EN
TZID:Europe/Paris
X-WR-TIMEZONE:Europe/Paris
BEGIN:VEVENT
UID:1319@citefertile.com
DTSTART;TZID=Europe/Paris:20260131T163000
DTEND;TZID=Europe/Paris:20260131T233000
DTSTAMP:20251217T095617Z
URL:https://citefertile.com/events/pasosfinos-soiree-dominicaine/
SUMMARY:Pasosfinos : soirée dominicaine
DESCRIPTION:\n\n\n\n\n\n\n\n\n\n\n\n\nPasos Finos a une sacrée nouvelle !!
 ! Un NOUVEAU LIEU pour s’ambiancer\, se défouler et célébrer la cultu
 re dominicaine !! \nOn se retrouve le samedi 31 Janvier 2026 de 16h30 à 2
 3h30 à la Cité Fertile ~14 rue Edouard Vaillant 93500 Pantin~ métro 7\,
  tram 1 et rer E \nAvec pour commencer 2 cours de Bachata traditionnelle d
 e qualité  : - 16h30 Cours débutants avec Noémie - 17h Cours tous nivea
 ux avec Maylanie &amp\; David\nPuis MUSICA DE 18h à 23h30 Entrée libre \
 nDj Palillo  nous fait toujours l’honneur de sa présence ainsi que Lise
  El Perron à l’accordéon  pour notre plus grand bonheur !! Et d’autr
 es surprises en préparation \n\n\n\n\n\n\n\n\n\n\n\n\n\n\n\n\n\n\n\n\n~~~
 ~~~~ INFOS ~~~~~~~~\n\n📆 Samedi 31 janvier 2026\n🕖 16:30 - 00:00\n
 📍 14 Av. Edouard Vaillant\, 93500 Pantin\n🎟️ Entrée gratuite sur 
 billetterie\n\n\n\n\n\n\n\n\n\n\n\n\n Quelques règles à respecter :\n- L
 e respect + la bienveillance : chacun.e se doit de se montrer respectueux.
 se envers autrui (les membres du staff\, les danseur.euses\, le voisinage)
 \, de prendre soin de soi et des autres\n- La liberté : chacun.e doit se 
 sentir libre d’être qui iel est\, de s’amuser sans être embêté.e\n
 - La tolérance : qu’ici soit prônée la diversité ! L’ouverture n
 ’est pas une option\, tous les genres\, tout.e.s les ethnies\, tou.te.s 
 les religions sont les bienvenu.e.s\n- La sécurité : chacun.e est tenu.e
  à veiller à la sécurité de tou.te.sNous nous réservons le droit de r
 efuser l’entrée/d’exclure toute personne qui ne respecterait pas nos 
 valeurs afin de préserver notre public.\n\n Site accessible aux personnes
  à mobilité réduite\n
ATTACH;FMTTYPE=image/jpeg:https://citefertile.com/wp-content/uploads/2025/
 12/IMG_4074-e1765965360746.jpg
END:VEVENT
BEGIN:VTIMEZONE
TZID:Europe/Paris
X-LIC-LOCATION:Europe/Paris
BEGIN:STANDARD
DTSTART:20251026T020000
TZOFFSETFROM:+0200
TZOFFSETTO:+0100
TZNAME:CET
END:STANDARD
END:VTIMEZONE
END:VCALENDAR