BEGIN:VCALENDAR
VERSION:2.0
PRODID:-//wp-events-plugin.com//6.4.6.4//EN
TZID:Europe/Paris
X-WR-TIMEZONE:Europe/Paris
BEGIN:VEVENT
UID:844@citefertile.com
DTSTART;TZID=Europe/Paris:20250912T120000
DTEND;TZID=Europe/Paris:20250914T210000
DTSTAMP:20250728T111353Z
URL:https://citefertile.com/events/pew-paris-electronic-week-2025/
SUMMARY:PEW - Paris Electronic Week 2025
DESCRIPTION:\n\n\n\n\n\n\n\n\n\n\n\n\nLa Paris Electronic Week revient pour
  sa 13e édition\, du 11 au 14 septembre 2025\, et prend cette année ses 
 quartiers dans deux lieux engagés. Le 11 septembre\, cap sur l’Académi
 e du Climat pour une journée consacrée aux enjeux de transition environn
 ementale dans les musiques électroniques. Les trois journées suivantes s
 e dérouleront à la Cité Fertile à Pantin\, tiers-lieu dédié à la tr
 ansition écologique et sociale\, qui accueillera pour la dernière fois l
 ’événement avant sa fermeture fin septembre.\n\n\n\n\n\nL’occasion d
 e promouvoir des outils concrets et de mettre en lumière les initiatives 
 et les nouveaux modèles alternatifs imaginés par le secteur pour inspire
 r\, motiver et faire évoluer les pratiques afin de bâtir l’ère d’un
  système vertueux qui défend l’avenir d’une fête plus safe\, plus r
 esponsable et plus inclusive\, à l'image de l'écosystème que nous souha
 itons construire ensemble.\n\n\n\n\n\n\n\n▬▬ PROGRAMMATION Conférence
 s\, masterclass\, workshops\, initiations au mix à la production\, takeov
 er\, des soirées partenaires et un marché des labels. Programmation à v
 enir.\n\n\n\n\n\n\n▬▬ POURQUOI VENIR ?\n🧠 participer aux grandes r
 éflexions qui feront la fête de demain lors des conférences\, mastercla
 ss et workshops\n🤝 développer ton réseau et rencontrer des profession
 nel·le·s des musiques électroniques lors de nos événements\n💃 déc
 ouvrir et échanger avec les artistes inspirant·e·s lors des talks et de
 s masterclass dédiées au DJing et la production\n💿 choper tes meilleu
 rs skeuds et dénicher tes plus belles pièces vintage à notre Electronic
  Market\n\n\n\n\n\n\n▬▬ PREMIERS NOMS CONFIRMÉS AFEM\, Alexandre Caza
 c (Infine)\, Alwarda\, Amandine Steiger et Redouane Missud (Gum)\, Angéli
 que Duchemin (Agi-son)\, Camélia Moghaddam (Safecore)\, Clémence Lézier
  (CNM/GT Festival)\, Eric Daviron (Collectif Mu)\, David Bola (Grünt)\, D
 J Mell G\, Earcare\, Encore Une Autre\, GIMIC\, Knock Out Sound System\, L
 aureline Teste Wyrich (ClubbingTV)\, Laurent Bassols (Rinse)\, Reset!\, Le
  Frit\, Louisahhh\, Cooprog\, SACEM\, Maya Barlat (Futures Proches)\, Pier
 re-Louis Baudu (Piléa Conseil)\, Oreille Interne\, Pinata Radio\, Agathe 
 Hamzaoui (Plateau Urbain)\, Rinse FM\, Rudy Guilhem-Ducléon (Le Collectif
  des Festivals)\, Sam Tiba\, Somniac One\, Speedrunnerz (Paul Parking &amp
 \; syqlone)\, Tatie Dee\, TÊTE VIDE\, Trois Quart Taxi System\, Vendredea
 r\, Vincent Landau (Essaim)\, Yann Le Frit &amp\; more to come\n\n\n\n\n\n
 \n▬▬ BILLETTERIE Cette année\, dans un souci d’inclusivité\, d’a
 ccessibilité et de cohérence avec les valeurs défendues par Technopol\,
  la Paris Electronic Week adopte une tarification solidaire. Nous proposon
 s trois tarifs afin de laisser à chaque participant·e la liberté de cho
 isir le plus juste en fonction de ses moyens. En choisissant votre billet\
 , quel que soit son tarif\, vous contribuez à faire de la PEW un espace p
 lus accueillant\, plus équitable et ouvert à toutes et tous.\n\n\n\n\n\n
 \n▬▬ SUIVEZ-NOUS\n→ Instagram : instagram.com/pew_france/\n→ Faceb
 ook : facebook.com/pariselectronicweek\n\n\n\n\n\n\n\n\n~~~~~~~ INFOS ~~~~
 ~~~~\n\n📆 Ven. 12\, Sam. 13\, Dim. 14 septembre 2025\n🕖 12h – 21h\
 n📍 14 Av. Edouard Vaillant\, 93500 Pantin\n🎟️ Entrée sur billette
 rie\n\n\n\n\n---------------------------------\n\n\n\n Quelques règles à
  respecter :\n- Le respect + la bienveillance : chacun.e se doit de se mon
 trer respectueux.se envers autrui (les membres du staff\, les danseur.euse
 s\, le voisinage)\, de prendre soin de soi et des autres\n- La liberté : 
 chacun.e doit se sentir libre d’être qui iel est\, de s’amuser sans 
 être embêté.e\n- La tolérance : qu’ici soit prônée la diversité !
  L’ouverture n’est pas une option\, tous les genres\, tout.e.s les eth
 nies\, tou.te.s les religions sont les bienvenu.e.s\n- La sécurité : cha
 cun.e est tenu.e à veiller à la sécurité de tou.te.sNous nous réservo
 ns le droit de refuser l’entrée/d’exclure toute personne qui ne respe
 cterait pas nos valeurs afin de préserver notre public.\n\n Site accessib
 le aux personnes à mobilité réduite\n
ATTACH;FMTTYPE=image/jpeg:https://citefertile.com/wp-content/uploads/2025/
 07/BANNIERE_SHOTGUN_PEW_25_qhf2hv.jpg
END:VEVENT
BEGIN:VTIMEZONE
TZID:Europe/Paris
X-LIC-LOCATION:Europe/Paris
BEGIN:DAYLIGHT
DTSTART:20250330T030000
TZOFFSETFROM:+0100
TZOFFSETTO:+0200
TZNAME:CEST
END:DAYLIGHT
END:VTIMEZONE
END:VCALENDAR