BEGIN:VCALENDAR
VERSION:2.0
PRODID:-//wp-events-plugin.com//6.4.6.4//EN
TZID:Europe/Paris
X-WR-TIMEZONE:Europe/Paris
BEGIN:VEVENT
UID:1275@citefertile.com
DTSTART;TZID=Europe/Paris:20251017T193000
DTEND;TZID=Europe/Paris:20251018T013000
DTSTAMP:20250917T090202Z
URL:https://citefertile.com/events/powerpouf-couche-tot/
SUMMARY:Powerpouf - Couche tôt
DESCRIPTION:\n\n\n\n\n✨ SAVE THE DATE : 17.10.25 ✨\n\n\nLa Powerpouf re
 vient à la Cité Fertile ! On accueille l'automne avec un blindtest anim
 é par notre chère Ô\, et après la teuf pour vous faire bouger jusqu'au
  dernier métro\, avec Jean Rémi et Reno derrière les platines as usual 
 ! De la boisson et de la nourriture sur place ! Venez tôt pour participer
  au blindtest et ne pas louper la perf ! Event gratuit !\n\n\n\n\n\n\n\n\n
 ~~~~~~~ INFOS ~~~~~~~~\n📆 Vendredi 17 octobre 2025\n🕖 19h30-01h30\n
 📍 14 Av. Edouard Vaillant\, 93500 Pantin\n\n\n\n\n\n\n\n Billetterie gr
 atuite\n\n\n\n\n---------------------------------\n\n\n Quelques règles 
 à respecter : - Le respect + la bienveillance : chacun.e se doit de se mo
 ntrer respectueux.se envers autrui (les membres du staff\, les danseur.eus
 es\, le voisinage)\, de prendre soin de soi et des autres\n- La liberté :
  chacun.e doit se sentir libre d’être qui iel est\, de s’amuser sans 
 être embêté.e\n- La tolérance : qu’ici soit prônée la diversité !
  L’ouverture n’est pas une option\, tous les genres\, tout.e.s les eth
 nies\, tou.te.s les religions sont les bienvenu.e.s\n- La sécurité : cha
 cun.e est tenu.e à veiller à la sécurité de tou.te.sNous nous réservo
 ns le droit de refuser l’entrée/d’exclure toute personne qui ne respe
 cterait pas nos valeurs afin de préserver notre public.\n\n Site accessib
 le au personnes à mobilité réduite\n
ATTACH;FMTTYPE=image/jpeg:https://citefertile.com/wp-content/uploads/2025/
 09/Powerpouf68-BanniA¨re.png
END:VEVENT
BEGIN:VTIMEZONE
TZID:Europe/Paris
X-LIC-LOCATION:Europe/Paris
BEGIN:DAYLIGHT
DTSTART:20250330T030000
TZOFFSETFROM:+0100
TZOFFSETTO:+0200
TZNAME:CEST
END:DAYLIGHT
END:VTIMEZONE
END:VCALENDAR