BEGIN:VCALENDAR
VERSION:2.0
PRODID:-//wp-events-plugin.com//6.4.6.4//EN
TZID:Europe/Paris
X-WR-TIMEZONE:Europe/Paris
BEGIN:VEVENT
UID:834@citefertile.com
DTSTART;TZID=Europe/Paris:20250724T193000
DTEND;TZID=Europe/Paris:20250725T013000
DTSTAMP:20250702T090542Z
URL:https://citefertile.com/events/republik-friends/
SUMMARY:Republik & Friends
DESCRIPTION:\n\n\n\n\n\n\n\n\n\n\n\n\n\n\n\n\n\n\n🌞 Le 24 juillet\, RPBL
 K revient à la Cité Fertile pour un nouvel open air estival\, toujours e
 n accès libre et toujours avec autant d’amour à partager. Ce lieu enga
 gé\, on l’aime fort — et on est ravis d’y faire vibrer à nouveau n
 os sélections\, entre house solaire et techno groovy\, pour un moment de 
 pur chill collectif. 🎶 Du bon son\, des sourires\, un cadre unique et d
 e la bonne énergie tout du long.\n🆓 Entrée gratuite – ramène tes p
 otes\, ton plus beau mood et viens profiter du sunset avec nous.\nC’est 
 l’été\, c’est Pantin\, c’est RPBLK. À très vite !\n\n\n\n\n\n\n\
 n\n\n\n\n\n~~~~~~~ INFOS ~~~~~~~~\n\n\n\n\n🗓️ Jeudi 24 juillet 2025 |
  🕛 19h30 à 01h30📍 Cité Fertile\, 14 avenue Édouard Vaillant\, 935
 00 Pantin🎟️ Entrée gratuite sur billetterie\n\n\n\n\n\n\n\n\n\n\n Si
 te accessible aux personnes à mobilité réduite\n
ATTACH;FMTTYPE=image/jpeg:https://citefertile.com/wp-content/uploads/2025/
 07/1920x1080.png
END:VEVENT
BEGIN:VTIMEZONE
TZID:Europe/Paris
X-LIC-LOCATION:Europe/Paris
BEGIN:DAYLIGHT
DTSTART:20250330T030000
TZOFFSETFROM:+0100
TZOFFSETTO:+0200
TZNAME:CEST
END:DAYLIGHT
END:VTIMEZONE
END:VCALENDAR