BEGIN:VCALENDAR
VERSION:2.0
PRODID:-//wp-events-plugin.com//6.4.6.4//EN
TZID:Europe/Paris
X-WR-TIMEZONE:Europe/Paris
BEGIN:VEVENT
UID:1223@citefertile.com
DTSTART;TZID=Europe/Paris:20250920T110000
DTEND;TZID=Europe/Paris:20250921T190000
DTSTAMP:20250915T161010Z
URL:https://citefertile.com/events/shizen-village-dete-japonais/
SUMMARY:SHIZEN - Village d'été japonais
DESCRIPTION:\n\n\n\n\n\n\n\n\n\n\nEnfin\, on peut vous l'annoncer ! Shizen 
 — Village japonais est de retour. Mais attention\, slash\, surprise : ce
 tte fois-ci\, pas pour les fêtes de noël\, mais bien pour célébrer la 
 fin de l’été ! Shizen mute et se transforme exceptionnellement pour ce
 tte 6ème édition\, en grand Village d’été japonais. On troque nos é
 charpes pour les lunettes de soleil\, sous la forme d’un grand matsuri j
 oyeux et déambulatoire\, venez retrouvez tout ce qui fait la force de Shi
 zen\, mais sous des milliers de rayons de soleil (la queue dans le froid c
 ’est owari desu).\n\n\n\n\n\n\n\n\n\n\n\n\n\n\n\n\n\n\n\n\n\n\n\n\n\n\nP
 our cette 6ème édition pleine de surprises (on célèbre l’équinoxe d
 ’automne par ailleurs)\, retrouvez toustes nos exposant-es adoré-es (+ 
 de 80 comme chaque année)\, nos restaurateurices de feu (on parle ramen\,
  donburi\, onigiri\, okonomiyaki et d’autres encore)\, des performances\
 , de la danse\, des concerts\, des tables-rondes\, des djsets\, un coin ki
 ds &amp\; d’autres à venir.\n\n\n\n\n\n\n\n\n\n\n\n\n\n\n\n\n\n\n\n\n\n
 \n\n\n\nPour les plus téméraires\, on prévoit samedi 20 septembre dès 
 la fin d’après-midi (17:00 - 01:30) une soirée avec le collectif l’A
 micale de la Bamboche \nQue l’on soit sous les températures estivales o
 u sous la neige\, venez déambuler dans un cadre unique\, onirique et fest
 if\, et profiter de l’occasion pour découvrir nos exposant·es de quali
 té\, et faire pourquoi pas en avance\, vos cadeaux (de noël ou autres) 
 à des tarifs accessibles à toutes les bourses.\n\n\n\n\n\n\n\n\n\n\n\n\n
 \n\n\n\n\n\n\n\n\n~~~~~~~ INFOS ~~~~~~~~\n\n📆 Samedi/ Dimanche 20-21 se
 ptembre 2025\n🕖 11:00 - 19:00\n📍 14 Av. Edouard Vaillant\, 93500 Pan
 tin\n🎟️ Entrée libre\n\n\n\n\n---------------------------------\n\n
 \n Quelques règles à respecter :\n- Le respect + la bienveillance : chac
 un.e se doit de se montrer respectueux.se envers autrui (les membres du st
 aff\, les danseur.euses\, le voisinage)\, de prendre soin de soi et des au
 tres\n\n\n- La liberté : chacun.e doit se sentir libre d’être qui iel 
 est\, de s’amuser sans être embêté.e\n- La tolérance : qu’ici soit
  prônée la diversité ! L’ouverture n’est pas une option\, tous les 
 genres\, tout.e.s les ethnies\, tou.te.s les religions sont les bienvenu.e
 .s\n\n\n- La sécurité : chacun.e est tenu.e à veiller à la sécurité 
 de tou.te.sNous nous réservons le droit de refuser l’entrée/d’exclur
 e toute personne qui ne respecterait pas nos valeurs afin de préserver no
 tre public.\n\nSite accessible aux personnes à mobilité réduite\n
ATTACH;FMTTYPE=image/jpeg:https://citefertile.com/wp-content/uploads/2025/
 08/Shizen-FACEBOOK-BANNIERE-scaled.jpg
END:VEVENT
BEGIN:VTIMEZONE
TZID:Europe/Paris
X-LIC-LOCATION:Europe/Paris
BEGIN:DAYLIGHT
DTSTART:20250330T030000
TZOFFSETFROM:+0100
TZOFFSETTO:+0200
TZNAME:CEST
END:DAYLIGHT
END:VTIMEZONE
END:VCALENDAR