BEGIN:VCALENDAR
VERSION:2.0
PRODID:-//wp-events-plugin.com//6.4.6.4//EN
TZID:Europe/Paris
X-WR-TIMEZONE:Europe/Paris
BEGIN:VEVENT
UID:1311@citefertile.com
DTSTART;TZID=Europe/Paris:20251205T180000
DTEND;TZID=Europe/Paris:20251205T233000
DTSTAMP:20251124T161627Z
URL:https://citefertile.com/events/soiree-histoires-crepues/
SUMMARY:Soirée Histoires Crépues
DESCRIPTION:\n\n\n\n\n\n\n\n\n\n\n\n🌟Pour célébrer la levée de fonds 
 avec vous on vous donne rendez-vous le 5 décembre\, dès 18h à la Cité 
 Fertile !\nPour une soirée entre nous\, pour célébrer\, réfléchir\, r
 ire et continuer de faire bouger nos idées.\nAu programme :- stand-up\,- 
 talks\,- débat mouvantEt parce que les les fêtes sont aussi politiques\,
  on clôturera tout ça en musique\, toustes ensemble !\n Les places sont 
 ouvertes\n\nOn a hâte de vous dévoiler notre line-up… Mais on peut dé
 jà pour dire que @safyafierce sera notre maîtresse de cérémonie !\nSpo
 iler : ça va être beau\, fort\, et profondément nous.\n\n\n\n\n\n\n\n\n
 \n\n\n\n\n\n\n\n\n\n\n\n~~~~~~~ INFOS ~~~~~~~~\n\n📆 Vendredi 5 décembr
 e 2025\n🕖 18:00 - 19:45\n📍 14 Av. Edouard Vaillant\, 93500 Pantin\n
 🎟️ Billetterie ici\n\n\n\n\n\n\n\n\n\n\n\n\n Quelques règles à resp
 ecter :\n- Le respect + la bienveillance : chacun.e se doit de se montrer 
 respectueux.se envers autrui (les membres du staff\, les danseur.euses\, l
 e voisinage)\, de prendre soin de soi et des autres\n- La liberté : chacu
 n.e doit se sentir libre d’être qui iel est\, de s’amuser sans être 
 embêté.e\n- La tolérance : qu’ici soit prônée la diversité ! L’o
 uverture n’est pas une option\, tous les genres\, tout.e.s les ethnies\,
  tou.te.s les religions sont les bienvenu.e.s\n- La sécurité : chacun.e 
 est tenu.e à veiller à la sécurité de tou.te.sNous nous réservons le 
 droit de refuser l’entrée/d’exclure toute personne qui ne respecterai
 t pas nos valeurs afin de préserver notre public.\n\n Site accessible aux
  personnes à mobilité réduite\n
ATTACH;FMTTYPE=image/jpeg:https://citefertile.com/wp-content/uploads/2025/
 11/587219185_1168916775384418_3785785315112592104_n.jpg
END:VEVENT
BEGIN:VTIMEZONE
TZID:Europe/Paris
X-LIC-LOCATION:Europe/Paris
BEGIN:STANDARD
DTSTART:20251026T020000
TZOFFSETFROM:+0200
TZOFFSETTO:+0100
TZNAME:CET
END:STANDARD
END:VTIMEZONE
END:VCALENDAR