BEGIN:VCALENDAR
VERSION:2.0
PRODID:-//wp-events-plugin.com//6.4.6.4//EN
TZID:Europe/Paris
X-WR-TIMEZONE:Europe/Paris
BEGIN:VEVENT
UID:268@citefertile.com
DTSTART;TZID=Europe/Paris:20240726T190000
DTEND;TZID=Europe/Paris:20240727T003000
DTSTAMP:20240703T153831Z
URL:https://citefertile.com/events/soiree-karaoke-3/
SUMMARY:Soirée Karaoké
DESCRIPTION:\n\n\n Les soirées karaoké sont de retour cette année encore
  à la Cité Fertile !!\n\nElles sont orchestrées par Toilettes Mixtes\, 
 un collectif étinceleur d'événements. Paillettes et sequins sont\, inco
 ntestablement\, les maitres mots de leurs fêtes hautes en iridescence.\n\
 n Au programme des hits toutes générations confondues\, 1 écran géant\
 , des micros pour chanter à tue-tête et le tout pendant 5h30 !!\n\nEt po
 ur les gourmands : bar et restauration sur place\n\n Rendez-vous le 26 jui
 llet pour danser et chanter ensemble.\n\n Entrée libre et gratuite pour t
 ous.tes.\n\n
ATTACH;FMTTYPE=image/jpeg:https://citefertile.com/wp-content/uploads/2024/
 07/karaoke-affiche-A3-1920-×-1080-px-4.jpg
END:VEVENT
BEGIN:VTIMEZONE
TZID:Europe/Paris
X-LIC-LOCATION:Europe/Paris
BEGIN:DAYLIGHT
DTSTART:20240331T030000
TZOFFSETFROM:+0100
TZOFFSETTO:+0200
TZNAME:CEST
END:DAYLIGHT
END:VTIMEZONE
END:VCALENDAR