BEGIN:VCALENDAR
VERSION:2.0
PRODID:-//wp-events-plugin.com//6.4.6.4//EN
TZID:Europe/Paris
X-WR-TIMEZONE:Europe/Paris
BEGIN:VEVENT
UID:1301@citefertile.com
DTSTART;TZID=Europe/Paris:20251108T190000
DTEND;TZID=Europe/Paris:20251109T000000
DTSTAMP:20251103T155823Z
URL:https://citefertile.com/events/soupe-machine/
SUMMARY:Soupe machine
DESCRIPTION:\n\n\n\n\n\n\n\n\n\n\n\n\n\n\n\n~ soupe machine x cité fertile
 \n\nPour cette date à la Cité Fertile\, chaque DJ résident·e de Soupe 
 Machine invite un·e artiste dont l’univers les touche particulièrement
 . Trois b2b pour trois rencontres sonores singulières.\nSojoe b2b Caline 
 ouvriront la danse avec avec du dub chaleureux\, et des basses rondes et e
 nveloppantes.\nHayashi b2b Contact Lance prendront le relais avec un set b
 rut et organique : percussions\, textures rugueuses et kicks déconstruits
 .\nEnfin\, Makhi b2b Paramo clôtureront la soirée dans une atmosphère p
 lus introspective — entre half-step brumeux\, deep dnb et nappes liquide
 s qui se fondent dans la nuit.\nsee you there ~\n\nArtwork tiré de l’in
 croyable Codex Seraphinianus de Luigi Serafini.\n\n\n\n\n\n\n\n\n\n\n\n\n\
 n\n\n\n\n\n\n\n\n\n\n\n\n~~~~~~~ INFOS ~~~~~~~~\n\n📆 Samedi 8 novembre 
 2025\n🕖 19:30 - 00:00\n📍 14 Av. Edouard Vaillant\, 93500 Pantin\n
 🎟️ Entrée à prix libre sur billetterie\n\n\n\n\n\n\n\n\n\n\n\n\n Qu
 elques règles à respecter :\n- Le respect + la bienveillance : chacun.e 
 se doit de se montrer respectueux.se envers autrui (les membres du staff\,
  les danseur.euses\, le voisinage)\, de prendre soin de soi et des autres\
 n- La liberté : chacun.e doit se sentir libre d’être qui iel est\, de 
 s’amuser sans être embêté.e\n- La tolérance : qu’ici soit prônée
  la diversité ! L’ouverture n’est pas une option\, tous les genres\, 
 tout.e.s les ethnies\, tou.te.s les religions sont les bienvenu.e.s\n- La 
 sécurité : chacun.e est tenu.e à veiller à la sécurité de tou.te.sNo
 us nous réservons le droit de refuser l’entrée/d’exclure toute perso
 nne qui ne respecterait pas nos valeurs afin de préserver notre public.\n
 \n Site accessible aux personnes à mobilité réduite\n
ATTACH;FMTTYPE=image/jpeg:https://citefertile.com/wp-content/uploads/2025/
 11/571176739_764739686607147_5675098833638895850_n.jpg
END:VEVENT
BEGIN:VTIMEZONE
TZID:Europe/Paris
X-LIC-LOCATION:Europe/Paris
BEGIN:STANDARD
DTSTART:20251026T020000
TZOFFSETFROM:+0200
TZOFFSETTO:+0100
TZNAME:CET
END:STANDARD
END:VTIMEZONE
END:VCALENDAR