BEGIN:VCALENDAR
VERSION:2.0
PRODID:-//wp-events-plugin.com//6.4.6.4//EN
TZID:Europe/Paris
X-WR-TIMEZONE:Europe/Paris
BEGIN:VEVENT
UID:830@citefertile.com
DTSTART;TZID=Europe/Paris:20250726T100000
DTEND;TZID=Europe/Paris:20250727T190000
DTSTAMP:20250626T130654Z
URL:https://citefertile.com/events/summer-matsuri/
SUMMARY:Summer Matsuri
DESCRIPTION:\n\n\n\n\n\n\n\n\n\n\n\n🔥 SAVE THE DATE 🔥\nLe SUMMER MATS
 URI en collaboration avec la Cité Fertile et Koji Japon !\nUne nouvelle 
 édition de notre évènement en version été ! \nEncore un nouveau défi
  ! On espère que vous serez au rendez-vous ! \nNotez dans vos agendas que
  vous êtes à la Cité Fertile de Pantin les 26 &amp\; 27 juillet !\n\n\n
 \n\n\n\n~~~~~~~ INFOS ~~~~~~~~\n📆 26-27 juillet\n🕦 10H-19H\n📍 14 
 Av. Edouard Vaillant\, 93500 Pantin\n🎟️ Entrée libre\n\n\n\n\n------
 ---------------------------\n\n\n\n Site accessible aux personnes à mobil
 ité réduite\n
ATTACH;FMTTYPE=image/jpeg:https://citefertile.com/wp-content/uploads/2025/
 06/Capture-decran-2025-06-26-a-15.00.20.png
END:VEVENT
BEGIN:VTIMEZONE
TZID:Europe/Paris
X-LIC-LOCATION:Europe/Paris
BEGIN:DAYLIGHT
DTSTART:20250330T030000
TZOFFSETFROM:+0100
TZOFFSETTO:+0200
TZNAME:CEST
END:DAYLIGHT
END:VTIMEZONE
END:VCALENDAR