BEGIN:VCALENDAR
VERSION:2.0
PRODID:-//wp-events-plugin.com//6.4.6.4//EN
TZID:Europe/Paris
X-WR-TIMEZONE:Europe/Paris
BEGIN:VEVENT
UID:241@citefertile.com
DTSTART;TZID=Europe/Paris:20240623T120000
DTEND;TZID=Europe/Paris:20240623T200000
DTSTAMP:20240613T144500Z
URL:https://citefertile.com/events/tattoo-artists-for-palestine/
SUMMARY:Tattoo artists for Palestine
DESCRIPTION:🇵🇸 Le 23 juin prochain à la Cité Fertile\, une trentain
 e de tatoueur.euse.s se réunissent pour apporter leur soutien au peuple p
 alestinien.\n\n🍉 De 12h à 20h\, vous pourrez venir vous faire tatouer 
 des flashs entre 50 et 150€\, l’intégralité de l’argent récolté 
 sera reversé à des associations et des cagnottes de familles palestinien
 nes.\n\nDes prints et du merch seront aussi à vendre.\nVenez nous rencont
 rer\, découvrir de nombreux.ses artistes aux styles variés et soutenir l
 a lutte palestinienne.\n\n❤️ Entrée à prix libre.\n-----------------
 ----\n✍️ Les 28 artistes\n✦ @magicmiraclebaby\n✦ @microp3ni\n✦ @
 mariepiquerbienfait\n✦ @milo_vik\n✦ @whos_your_momma__now\n✦ @this_a
 ctually_doesnt_exist\n✦ @nayusi.i\n✦ @minecraft._.girlfriend\n✦ @min
 h77drift\n✦ @liza.ada.rachel\n✦ @zefyreon\n✦ @arte.perdura\n✦ @bar
 wouf\n✦ @badbiz_and_deadbirdz\n✦ @kosh.tattoo\n✦ @silemario\n✦ @th
 at_s_not_me__\n✦ @Hila.dots\n✦ @nana._melka\n✦ @Ex0_evolution\n✦ @
 domani_tattoo\n✦ @cl0wn2tess\n✦ @amaru.tattu\n✦ @caprice__________\n
 ✦ @melodie9x9\n✦ @eikon__\n✦ @totallyscribes\n✦ @latchinga_\n\n---
 ------------------\nTattooers for Palestine est un collectif de tatoueureu
 ses rassemblant des artistes ayant pour désir de mettre à profit leur pr
 atique du tatouage afin de récolter des fonds pour venir en aide au peupl
 e palestinien.\nDevant l’urgence du génocide actuel\, il est nécessair
 e de faire de nos pratiques artistiques des lieux de lutte contre les viol
 ences coloniales perpétrées par le gouvernement d’Israël.\nNous organ
 isons des flash days ouverts à toustes\, dans le but de se rassembler et 
 d'échanger\, où le public peut se faire tatouer à prix réduit. Les fon
 ds seront entièrement reversés à des associations ou des cagnottes de f
 amilles palestiniennes.\n\n ---------------------\n\n🍻 Food et restaura
 tion sur place \n\n\n
ATTACH;FMTTYPE=image/jpeg:https://citefertile.com/wp-content/uploads/2024/
 06/BANNER-PALESTINE.jpg
END:VEVENT
BEGIN:VTIMEZONE
TZID:Europe/Paris
X-LIC-LOCATION:Europe/Paris
BEGIN:DAYLIGHT
DTSTART:20240331T030000
TZOFFSETFROM:+0100
TZOFFSETTO:+0200
TZNAME:CEST
END:DAYLIGHT
END:VTIMEZONE
END:VCALENDAR