BEGIN:VCALENDAR
VERSION:2.0
PRODID:-//wp-events-plugin.com//6.4.6.4//EN
TZID:Europe/Paris
X-WR-TIMEZONE:Europe/Paris
BEGIN:VEVENT
UID:1324@citefertile.com
DTSTART;TZID=Europe/Paris:20260123T190000
DTEND;TZID=Europe/Paris:20260124T000000
DTSTAMP:20251218T104440Z
URL:https://citefertile.com/events/tempo-tapas-2/
SUMMARY:Tempo Tapas
DESCRIPTION:\n\n\n\n\n\n\n\n\n\n\n\n\n\n\nTous à table !\n\nPlanche Mix et
  les Amis des Amies² ont décidé de se mettre ensemble aux fourneaux et 
 vous présentent leur première soirée en collaboration : Tempo Tapas ! 
 \n\nLe 23 janvier\, la Cité Fertile se transforme en véritable laboratoi
 re musical pour une session riche en saveurs. Pour démarrer la nouvelle a
 nnée\, on vous propose une soirée où les styles s’entremêlent et où
  les vibrations montent en température. Des B2B très spicy seront au pro
 gramme : à découvrir sur place.\n\nAu menu : une sélection sonore maiso
 n 100% electro house\, relevée juste comme il faut pour titiller vos orei
 lles.\n\nOn garde nos ingrédients phares : du son bouillant\, des sets g
 énéreux et une bonne pincée de kiff.\n\nEt pour compléter l’expérie
 nce\, Rolling Fripe sera aussi de la partie avec un stand flambant chaud d
 e pépites vintage\, de quoi assaisonner votre style en live.\n\nTempo Tap
 as\, c’est simple\, convivial et fait pour être vécu ensemble !\n\n\n\
 n\n\n\n\n\n\n\n\n\n\n\n\n\n\n\n\n\n\n\n~~~~~~~ INFOS ~~~~~~~~\n\n📆 Vend
 redi 23 janvier 2026\n🕖 19:00 - 00:00\n📍 14 Av. Edouard Vaillant\, 9
 3500 Pantin\n🎟️ Entrée gratuite sur billetterie : TBC\n\n\n\n\n\n\n\
 n\n\n\n\n\n Quelques règles à respecter :\n- Le respect + la bienveillan
 ce : chacun.e se doit de se montrer respectueux.se envers autrui (les memb
 res du staff\, les danseur.euses\, le voisinage)\, de prendre soin de soi 
 et des autres\n- La liberté : chacun.e doit se sentir libre d’être qui
  iel est\, de s’amuser sans être embêté.e\n- La tolérance : qu’ici
  soit prônée la diversité ! L’ouverture n’est pas une option\, tous
  les genres\, tout.e.s les ethnies\, tou.te.s les religions sont les bienv
 enu.e.s\n- La sécurité : chacun.e est tenu.e à veiller à la sécurité
  de tou.te.sNous nous réservons le droit de refuser l’entrée/d’exclu
 re toute personne qui ne respecterait pas nos valeurs afin de préserver n
 otre public.\n\n Site accessible aux personnes à mobilité réduite\n
ATTACH;FMTTYPE=image/jpeg:https://citefertile.com/wp-content/uploads/2025/
 12/Shotgun-_-FB.png
END:VEVENT
BEGIN:VTIMEZONE
TZID:Europe/Paris
X-LIC-LOCATION:Europe/Paris
BEGIN:STANDARD
DTSTART:20251026T020000
TZOFFSETFROM:+0200
TZOFFSETTO:+0100
TZNAME:CET
END:STANDARD
END:VTIMEZONE
END:VCALENDAR