BEGIN:VCALENDAR
VERSION:2.0
PRODID:-//wp-events-plugin.com//6.4.6.4//EN
TZID:Europe/Paris
X-WR-TIMEZONE:Europe/Paris
BEGIN:VEVENT
UID:1312@citefertile.com
DTSTART;TZID=Europe/Paris:20260109T180000
DTEND;TZID=Europe/Paris:20260109T233000
DTSTAMP:20251126T142744Z
URL:https://citefertile.com/events/terminus-ufo-recordz-x-cite-fertile/
SUMMARY:Terminus : ufo.recordz x Cité Fertile
DESCRIPTION:\n\n\n\nTerminus : ufo.recordz débarque à la Cité Fertile !\
 n\n📅 Vendredi 09 Janvier 2026\n🕕 18h00 – 23h30\n\n\n\n\n\n▬ 𝗟
 𝗜𝗡𝗘 𝗨𝗣 ▬\nSaphireLeFleur\nSonik23\nYPO\nSkorchsin\nTwolet
 ters\nUFORICK\nFantiflex\n\n\n\n\n\n▬ 𝗜𝗡𝗙𝗢𝗦 ▬\nUFO.reco
 rdz soutient la fête libre\n✦ Aucun comportement déplacé ne sera tol
 éré.\nFOLLOW US ↓\nhttps://www.instagram.com/ufo.recordz/\n\nGraph by 
 gabriel_dlrm\n\n*Des photos et vidéos seront prises pendant l’événeme
 nt. Elles pourront être utilisées par UFO.recordz pour ses communication
 s. Si vous ne souhaitez pas apparaître\, signalez-le dès votre arrivée.
 \n\n\n\n\n\n\n~~~~~~~ INFOS ~~~~~~~~\n🕦 18h - 23h30\n📍 14 Av. Edouar
 d Vaillant\, 93500 Pantin\n🎟️ Entrée gratuite sur inscription sur Sh
 otgun\n\n\n\n\n\n---------------------------------\n\n\n\n Quelques règle
 s à respecter : - Le respect + la bienveillance : chacun.e se doit de se 
 montrer respectueux.se envers autrui (les membres du staff\, les danseur.e
 uses\, le voisinage)\, de prendre soin de soi et des autres\n- La liberté
  : chacun.e doit se sentir libre d’être qui iel est\, de s’amuser san
 s être embêté.e\n- La tolérance : qu’ici soit prônée la diversité
  ! L’ouverture n’est pas une option\, tous les genres\, tout.e.s les e
 thnies\, tou.te.s les religions sont les bienvenu.e.s\n- La sécurité : c
 hacun.e est tenu.e à veiller à la sécurité de tou.te.sNous nous réser
 vons le droit de refuser l’entrée/d’exclure toute personne qui ne res
 pecterait pas nos valeurs afin de préserver notre public.\n\n Site access
 ible au personnes à mobilité réduite\n
ATTACH;FMTTYPE=image/jpeg:https://citefertile.com/wp-content/uploads/2025/
 11/TERMINUS-ufo-format-horizontal.jpg
END:VEVENT
BEGIN:VTIMEZONE
TZID:Europe/Paris
X-LIC-LOCATION:Europe/Paris
BEGIN:STANDARD
DTSTART:20251026T020000
TZOFFSETFROM:+0200
TZOFFSETTO:+0100
TZNAME:CET
END:STANDARD
END:VTIMEZONE
END:VCALENDAR