BEGIN:VCALENDAR
VERSION:2.0
PRODID:-//wp-events-plugin.com//6.4.6.4//EN
TZID:Europe/Paris
X-WR-TIMEZONE:Europe/Paris
BEGIN:VEVENT
UID:1216@citefertile.com
DTSTART;TZID=Europe/Paris:20250906T120000
DTEND;TZID=Europe/Paris:20250907T190000
DTSTAMP:20250731T083319Z
URL:https://citefertile.com/events/the-gros-marche-last-date/
SUMMARY:The Gros Marché - Last Date
DESCRIPTION:\n\n\n\n\n\n\n\n\n\n\n\n The Gros Marché – The Last Date \n\
 n\n Pour cette dernière date de la saison\, on sort le grand jeu ! \n + d
 e 40 stands de créateurices engagé·es\, militant·es\, passionné·es D
 J set solaire &amp\; dansant avec Songo le samedi Librairie féministe ave
 c talks &amp\; échanges Village associatif (Afroqueer Rising\, etc.) Drag
  kings &amp\; queens le dimanche pour ambiancer la journée et… faire ga
 gner des cadeaux aux visiteur·euses \n\n\n\n Un week-end festif\, politiq
 ue\, artistique\, collectif – à notre image.Viens kiffer\, rencontrer\,
  danser\, militer\, shopper\, apprendre\, rire. Le tout en plein air\, en 
 bonne compagnie \n\n\n\n\n\n\n\n\n\n\n~~~~~~~ INFOS ~~~~~~~~\n\n📆 Samed
 i 6 &amp\; Dimanche 7 septembre 2025\n🕖 12h – 19h\n📍 14 Av. Edouar
 d Vaillant\, 93500 Pantin\n🎟️ Entrée libre\n\n\n\n\n----------------
 -----------------\n\n\n\n Quelques règles à respecter :\n- Le respect + 
 la bienveillance : chacun.e se doit de se montrer respectueux.se envers au
 trui (les membres du staff\, les danseur.euses\, le voisinage)\, de prendr
 e soin de soi et des autres\n- La liberté : chacun.e doit se sentir libre
  d’être qui iel est\, de s’amuser sans être embêté.e\n- La toléra
 nce : qu’ici soit prônée la diversité ! L’ouverture n’est pas une
  option\, tous les genres\, tout.e.s les ethnies\, tou.te.s les religions 
 sont les bienvenu.e.s\n- La sécurité : chacun.e est tenu.e à veiller à
  la sécurité de tou.te.sNous nous réservons le droit de refuser l’ent
 rée/d’exclure toute personne qui ne respecterait pas nos valeurs afin d
 e préserver notre public.\n\n Site accessible aux personnes à mobilité 
 réduite\n
ATTACH;FMTTYPE=image/jpeg:https://citefertile.com/wp-content/uploads/2025/
 07/525767921_1322410289887068_6385567162471860434_n.jpg
END:VEVENT
BEGIN:VTIMEZONE
TZID:Europe/Paris
X-LIC-LOCATION:Europe/Paris
BEGIN:DAYLIGHT
DTSTART:20250330T030000
TZOFFSETFROM:+0100
TZOFFSETTO:+0200
TZNAME:CEST
END:DAYLIGHT
END:VTIMEZONE
END:VCALENDAR