BEGIN:VCALENDAR
VERSION:2.0
PRODID:-//wp-events-plugin.com//6.4.6.4//EN
TZID:Europe/Paris
X-WR-TIMEZONE:Europe/Paris
BEGIN:VEVENT
UID:1300@citefertile.com
DTSTART;TZID=Europe/Paris:20251206T120000
DTEND;TZID=Europe/Paris:20251207T190000
DTSTAMP:20251030T111706Z
URL:https://citefertile.com/events/the-gros-marche-special-noel/
SUMMARY:The Gros Marché spécial Noël
DESCRIPTION:La Cité de Noël\, le village de Noël XXL à la Cité Fertile
 \n❄️🎅🎄🎁 LA CITÉ DE NOËL\, LE VILLAGE DE NOËL XXL DE LA CIT
 É FERTILE - TOUS LES WEEK-ENDS DU 22 NOVEMBRE AU 21 DÉCEMBRE\nCadeaux in
 solites\, maxi espace de jeu\, cabane du Père Noël\, ateliers\, animatio
 ns festives\, performances musicales\, streetfood &amp\; buvette d'hiver\n
 —————————\n\n\n\n\n\n The Gros Marché – Spécial Noë
 l à la Cité Fertile \n Ambiance féérique\, vin chaud et idées cadeaux
  de folie Loin de la cohue des grands magasins\, The Gros Marché t’invi
 te à un week-end magique 100 % créateur·ices passionné·es\, artisan·
 es inspiré·es et friperies stylées \n\n Un grand marché créatif &amp\
 ; vintage Vin chaud\, douceurs et food trucks DJ sets\, surprises &amp\; b
 onne humeur tout le week-end Une scénographie de Noël unique façon Cit
 é Fertile\n\nViens chiner\, grignoter\, danser et trouver les plus beaux 
 cadeaux – locaux\, responsables et pleins de cœur\n\n\n\n\n Samedi 6 &a
 mp\; dimanche 7 décembre – de 12h à 19h\nEntrée Libre\n————
 ————\n🎁\nPLUS D'INFOS SUR LA CITÉ DE NOËL\n&gt\;&gt\; Par ici
 \n🎟️ ENTRÉE LIBRE SUR LE SITE\n—————————\n👉INFO
 RMATIONS PRATIQUES\n🚲 Comment venir ?\nRER E Pantin (4 minutes à pieds
 )\nMétro Quatre Chemins – ligne 7 (8 minutes à pieds) et Métro Hoche 
 – ligne 5 (10 minutes à pieds)\nTram 3 Ella Fitzgerald (5 minutes à pi
 eds)\nBus 170\, 249\, 330 arrêt Jean Moulin\nParking à vélo à l’entr
 ée du site.\nPas de parking voitures.\nParking PSH sur le site de la Cit
 é Fertile.
ATTACH;FMTTYPE=image/jpeg:https://citefertile.com/wp-content/uploads/2025/
 10/1920x1080-TGM-CF-NOEL-2025-.png
END:VEVENT
BEGIN:VTIMEZONE
TZID:Europe/Paris
X-LIC-LOCATION:Europe/Paris
BEGIN:STANDARD
DTSTART:20251026T020000
TZOFFSETFROM:+0200
TZOFFSETTO:+0100
TZNAME:CET
END:STANDARD
END:VTIMEZONE
END:VCALENDAR