BEGIN:VCALENDAR
VERSION:2.0
PRODID:-//wp-events-plugin.com//6.4.6.4//EN
TZID:Europe/Paris
X-WR-TIMEZONE:Europe/Paris
BEGIN:VEVENT
UID:1320@citefertile.com
DTSTART;TZID=Europe/Paris:20260111T170000
DTEND;TZID=Europe/Paris:20260111T200000
DTSTAMP:20251222T094127Z
URL:https://citefertile.com/events/urbain-poetry/
SUMMARY:Urban Poetry
DESCRIPTION:\n\n\n\n\n\n\n\n\n\n\n\n\n\n\n&nbsp\;\n\n\n\n\n\n\n\n\n\n\nPlon
 gez au cœur d’une expérience artistique unique avec URBAIN POETRY\, un
 e soirée où la parole devient spectacle et la musique une respiration.Da
 ns une atmosphère intimiste\, quatre artistes se partagent la scène : de
 ux poètes interprètes en dialecte tunisien\, un rappeur\, et un musicien
  handpan\, pour un voyage sonore entièrement acapella\, rythmé seulement
  par les vibrations aériennes du handpan.\nURBAIN POETRY met à l’honne
 ur la force des mots nus : sans artifices\, sans beat\, sans micro effet. 
 Juste la voix\, les émotions\, la présence.Le handpan accompagne les per
 formances\, apportant une touche hypnotique\, profonde et apaisante.\nLa s
 oirée se clôturera par un open mic\, ouvert à toutes celles et ceux qui
  souhaitent monter sur scène\, animé par le rappeur Madou\, pour un fina
 l participatif et vibrant.\nVenez découvrir une rencontre entre poésie u
 rbaine\, rap conscient et musique intuitive.Un événement où chaque vers
  résonne\, chaque souffle compte\, chaque note suspend le temps.\nURBAIN 
 POETRY – L’art brut\, vivant et vibrant.\n~~~~~~~ INFOS ~~~~~~~~\n\n\n
 \n📆 Dimanche 11 janvier 2026\n🕖 17:00 - 20:00\n📍 14 Av. Edouard V
 aillant\, 93500 Pantin\n🎟️ Entrée gratuite sur billetterie\n\n\n\n\n
 \n\n\n\n\n\n\n Quelques règles à respecter :\n- Le respect + la bienveil
 lance : chacun.e se doit de se montrer respectueux.se envers autrui (les m
 embres du staff\, les danseur.euses\, le voisinage)\, de prendre soin de s
 oi et des autres\n- La liberté : chacun.e doit se sentir libre d’être 
 qui iel est\, de s’amuser sans être embêté.e\n- La tolérance : qu’
 ici soit prônée la diversité ! L’ouverture n’est pas une option\, t
 ous les genres\, tout.e.s les ethnies\, tou.te.s les religions sont les bi
 envenu.e.s\n- La sécurité : chacun.e est tenu.e à veiller à la sécuri
 té de tou.te.sNous nous réservons le droit de refuser l’entrée/d’ex
 clure toute personne qui ne respecterait pas nos valeurs afin de préserve
 r notre public.\n\n Site accessible aux personnes à mobilité réduite\n
ATTACH;FMTTYPE=image/jpeg:https://citefertile.com/wp-content/uploads/2025/
 12/599838132_1160381809587578_4342201259966942798_n-2.jpg
END:VEVENT
BEGIN:VTIMEZONE
TZID:Europe/Paris
X-LIC-LOCATION:Europe/Paris
BEGIN:STANDARD
DTSTART:20251026T020000
TZOFFSETFROM:+0200
TZOFFSETTO:+0100
TZNAME:CET
END:STANDARD
END:VTIMEZONE
END:VCALENDAR