BEGIN:VCALENDAR
VERSION:2.0
PRODID:-//wp-events-plugin.com//6.4.6.4//EN
TZID:Europe/Paris
X-WR-TIMEZONE:Europe/Paris
BEGIN:VEVENT
UID:778@citefertile.com
DTSTART;TZID=Europe/Paris:20250524T140000
DTEND;TZID=Europe/Paris:20250524T180000
DTSTAMP:20250426T130556Z
URL:https://citefertile.com/events/vente-de-plantes-2025-05-24/
SUMMARY:Vente de plantes
DESCRIPTION:\nAlerte vente de plantes!! Notre pépinière est engloutie sou
 s les cagettes de plantes. Rdv tous les samedis de 14h à 18h pour récup
 érer vos plantes made in La Cité Fertile.\n\n\n\n\nPrix doux de 3€ à 
 6€ avec des plants 100% locaux et comestibles\, à partir de semences re
 productibles\, cultivés avec amour et danse dans la pépinière de Ta Mè
 re Nature.\n\n\n\nN’oubliez pas le petit tote bag et les espèces pour q
 ue ça se déroule en toute fluiditude\n
ATTACH;FMTTYPE=image/jpeg:https://citefertile.com/wp-content/uploads/2023/
 04/Ventes-de-plantes-locales-et-comestibles-.png
END:VEVENT
BEGIN:VTIMEZONE
TZID:Europe/Paris
X-LIC-LOCATION:Europe/Paris
BEGIN:DAYLIGHT
DTSTART:20250330T030000
TZOFFSETFROM:+0100
TZOFFSETTO:+0200
TZNAME:CEST
END:DAYLIGHT
END:VTIMEZONE
END:VCALENDAR