BEGIN:VCALENDAR
VERSION:2.0
PRODID:-//wp-events-plugin.com//6.4.6.4//EN
TZID:Europe/Paris
X-WR-TIMEZONE:Europe/Paris
BEGIN:VEVENT
UID:1283@citefertile.com
DTSTART;TZID=Europe/Paris:20251025T130000
DTEND;TZID=Europe/Paris:20251026T003000
DTSTAMP:20251017T090614Z
URL:https://citefertile.com/events/vibrason-x-tanso/
SUMMARY:Vibrason x Tanso
DESCRIPTION:\n\n\n\n\n✨ SAVE THE DATE : 25.10.25 ✨\n\n\nVibrason x Tans
 o Nos deux collectifs s’unissent pour vous proposer une date unique aux 
 côtés d’artistes qu’il nous tardait de réunir à Paris.\n\n 🔉 N
 ous sonoriserons l’événement aux côtés d’Orange_db\, aujourd’hui
  appelé pour sonoriser les événements Giegling à Paris. À la tête d
 ’un nouveau stack et de nouveaux instruments pour le diriger\, les 4 sub
 s\, 2 kicks et 4 têtes sonneront à la perfection.\n\n\n\n\n\n~~~~~~~~ LI
 NE UP ~~~~~~~~\nAlich\n\n\nArthur Gyuza\n\n\nHuman_aventura\n\n\n\n\n\n\n\
 n\n\n\n\n\n~~~~~~~ INFOS ~~~~~~~~\n📆 Samedi 25 octobre 2025\n🕖 13h00
 -00h30\n📍 14 Av. Edouard Vaillant\, 93500 Pantin\n\n\n\n\n\n\n\n Billet
 terie gratuite\n\n\n\n\n---------------------------------\n\n\n Quelques r
 ègles à respecter : - Le respect + la bienveillance : chacun.e se doit d
 e se montrer respectueux.se envers autrui (les membres du staff\, les dans
 eur.euses\, le voisinage)\, de prendre soin de soi et des autres\n- La lib
 erté : chacun.e doit se sentir libre d’être qui iel est\, de s’amuse
 r sans être embêté.e\n- La tolérance : qu’ici soit prônée la diver
 sité ! L’ouverture n’est pas une option\, tous les genres\, tout.e.s 
 les ethnies\, tou.te.s les religions sont les bienvenu.e.s\n- La sécurit
 é : chacun.e est tenu.e à veiller à la sécurité de tou.te.sNous nous 
 réservons le droit de refuser l’entrée/d’exclure toute personne qui 
 ne respecterait pas nos valeurs afin de préserver notre public.\n\n Site 
 accessible au personnes à mobilité réduite\n
ATTACH;FMTTYPE=image/jpeg:https://citefertile.com/wp-content/uploads/2025/
 10/CitA©-Fertile-Paysage.jpg
END:VEVENT
BEGIN:VTIMEZONE
TZID:Europe/Paris
X-LIC-LOCATION:Europe/Paris
BEGIN:DAYLIGHT
DTSTART:20250330T030000
TZOFFSETFROM:+0100
TZOFFSETTO:+0200
TZNAME:CEST
END:DAYLIGHT
END:VTIMEZONE
END:VCALENDAR